{
 "version": 1.0,
 "tileBundlesPath": "./tile",
 "storageInfo": {
  "packetSize": 128,
  "storageFormat": "esriMapCacheStorageModeCompactV2"
 },
 "tileImageInfo": {
  "format": "PNG24",
  "compressionQuality": 0,
  "bandCount": 1,
  "lercError": 0
 },
 "tileInfo": {
  "spatialReference": {
   "wkid": 102100,
   "latestWkid": 3857
  },
  "origin": {
   "x": -2.0037508342787E7,
   "y": 2.0037508342787E7
  },
  "rows": 256,
  "cols": 256,
  "dpi": 96,
  "lods": [
   {
    "level": 0,
    "resolution": 156543.033928,
    "scale": 5.91657527591555E8
   },
   {
    "level": 1,
    "resolution": 78271.5169639999,
    "scale": 2.95828763795777E8
   },
   {
    "level": 2,
    "resolution": 39135.7584820001,
    "scale": 1.47914381897889E8
   },
   {
    "level": 3,
    "resolution": 19567.8792409999,
    "scale": 7.3957190948944E7
   },
   {
    "level": 4,
    "resolution": 9783.93962049996,
    "scale": 3.6978595474472E7
   },
   {
    "level": 5,
    "resolution": 4891.96981024998,
    "scale": 1.8489297737236E7
   },
   {
    "level": 6,
    "resolution": 2445.98490512499,
    "scale": 9244648.868618
   },
   {
    "level": 7,
    "resolution": 1222.99245256249,
    "scale": 4622324.434309
   },
   {
    "level": 8,
    "resolution": 611.49622628138,
    "scale": 2311162.217155
   },
   {
    "level": 9,
    "resolution": 305.748113140558,
    "scale": 1155581.108577
   },
   {
    "level": 10,
    "resolution": 152.874056570411,
    "scale": 577790.554289
   },
   {
    "level": 11,
    "resolution": 76.4370282850732,
    "scale": 288895.277144
   },
   {
    "level": 12,
    "resolution": 38.2185141425366,
    "scale": 144447.638572
   },
   {
    "level": 13,
    "resolution": 19.1092570712683,
    "scale": 72223.819286
   },
   {
    "level": 14,
    "resolution": 9.55462853563415,
    "scale": 36111.909643
   },
   {
    "level": 15,
    "resolution": 4.77731426794937,
    "scale": 18055.954822
   },
   {
    "level": 16,
    "resolution": 2.38865713397468,
    "scale": 9027.977411
   },
   {
    "level": 17,
    "resolution": 1.19432856685505,
    "scale": 4513.988705
   },
   {
    "level": 18,
    "resolution": 0.597164283559817,
    "scale": 2256.994353
   },
   {
    "level": 19,
    "resolution": 0.298582141647617,
    "scale": 1128.497176
   },
   {
    "level": 20,
    "resolution": 0.14929107082380833,
    "scale": 564.248588
   },
   {
    "level": 21,
    "resolution": 0.07464553541190416,
    "scale": 282.124294
   },
   {
    "level": 22,
    "resolution": 0.03732276770595208,
    "scale": 141.062147
   },
   {
    "level": 23,
    "resolution": 0.01866138385297604,
    "scale": 70.5310735
   }
  ],
  "format": "PNG24",
  "compressionQuality": 0,
  "bandCount": 1,
  "lercError": 0,
  "storageFormat": "esriMapCacheStorageModeCompactV2",
  "packetSize": 128
 },
 "name": "FDP_Cadastre_Transparent_WGS84_PROD",
 "serviceDescription": "",
 "spatialReference": {
  "wkid": 102100,
  "latestWkid": 3857,
  "xyTolerance": 0.001,
  "zTolerance": 0.001,
  "mTolerance": 0.001,
  "falseX": -20037700,
  "falseY": -30241100,
  "xyUnits": 10000,
  "falseZ": -100000,
  "zUnits": 10000,
  "falseM": -100000,
  "mUnits": 10000
 },
 "units": "esriMeters",
 "minLOD": 11,
 "maxLOD": 19,
 "resampling": true,
 "layers": [
  {
   "id": 0,
   "name": "Commune",
   "parentLayerId": -1,
   "defaultVisibility": true,
   "subLayerIds": null,
   "minScale": 0,
   "maxScale": 0,
   "type": "Feature Layer",
   "geometryType": "esriGeometryPolygon",
   "supportsDynamicLegends": true,
   "legend": [
    {
     "label": "",
     "imageData": "iVBORw0KGgoAAAANSUhEUgAAABQAAAAUCAYAAACNiR0NAAAACXBIWXMAAA7EAAAOxAGVKw4bAAAAQklEQVQ4jWP5z3D0PwMVAQs1DUMxkJHBmpGBAvAf6lPauZBagIVqJkHBqIGUAxYqmIECRg2kHLCMYAP/U6nkproLAWwuCNeEK8+HAAAAAElFTkSuQmCC",
     "contentType": "image/png",
     "groupId": "0",
     "height": 20,
     "width": 20,
     "layerId": 0,
     "layerName": "Commune"
    }
   ],
   "layerId": 0,
   "layerName": "Commune",
   "serviceItemId": "972aa61e08c748f48fe9722e5ef01657"
  },
  {
   "id": 1,
   "name": "Section cadastrale",
   "parentLayerId": -1,
   "defaultVisibility": true,
   "subLayerIds": null,
   "minScale": 72223.819286,
   "maxScale": 0,
   "type": "Feature Layer",
   "geometryType": "esriGeometryPolygon",
   "supportsDynamicLegends": true,
   "legend": [
    {
     "label": "",
     "imageData": "iVBORw0KGgoAAAANSUhEUgAAABQAAAAUCAYAAACNiR0NAAAACXBIWXMAAA7EAAAOxAGVKw4bAAAAU0lEQVQ4jWO5fmjefwYqAhYQMacriSqGpZTNgxgIAr1bGBgpMazYhwHsU7iB1AIsowZSDFgoNwIVjBpIOWChghkoYNRAygE8DGHlGVUMBJW01AIA5t4MvVhWYrsAAAAASUVORK5CYII=",
     "contentType": "image/png",
     "groupId": "0",
     "height": 20,
     "width": 20,
     "layerId": 1,
     "layerName": "Section cadastrale"
    }
   ],
   "layerId": 1,
   "layerName": "Section cadastrale",
   "serviceItemId": "972aa61e08c748f48fe9722e5ef01657"
  },
  {
   "id": 2,
   "name": "Parcelle",
   "parentLayerId": -1,
   "defaultVisibility": true,
   "subLayerIds": null,
   "minScale": 20001,
   "maxScale": 0,
   "type": "Feature Layer",
   "geometryType": "esriGeometryPolygon",
   "supportsDynamicLegends": true,
   "legend": [
    {
     "label": "",
     "imageData": "iVBORw0KGgoAAAANSUhEUgAAABQAAAAUCAYAAACNiR0NAAAACXBIWXMAAA7EAAAOxAGVKw4bAAAAP0lEQVQ4jWMxMTH5z0BFwAIizpw5w0gNw0xMTP6DDaQmYBk1kGLAQrkRqGDUQMoBCxXMQAGjBo6YMDShYjUAACqkB4en/IWNAAAAAElFTkSuQmCC",
     "contentType": "image/png",
     "groupId": "0",
     "height": 20,
     "width": 20,
     "layerId": 2,
     "layerName": "Parcelle"
    }
   ],
   "layerId": 2,
   "layerName": "Parcelle",
   "serviceItemId": "972aa61e08c748f48fe9722e5ef01657"
  },
  {
   "id": 3,
   "name": "Subdivision fiscale",
   "parentLayerId": -1,
   "defaultVisibility": true,
   "subLayerIds": null,
   "minScale": 4001,
   "maxScale": 0,
   "type": "Feature Layer",
   "geometryType": "esriGeometryPolygon",
   "supportsDynamicLegends": true,
   "legend": [
    {
     "label": "",
     "imageData": "iVBORw0KGgoAAAANSUhEUgAAABQAAAAUCAYAAACNiR0NAAAACXBIWXMAAA7EAAAOxAGVKw4bAAAAXElEQVQ4je2UQQoAIQwDFfK+PDYf3MVDoPQgLlvwoHMQGSEUQkULkHx8l9S/OHuMwzI+mlVn0IpBZZikjtn42ydkLqUCVAWZW8p/UJBxciknrx7DlLPvPfvshn8BUehI22iowJIAAAAASUVORK5CYII=",
     "contentType": "image/png",
     "groupId": "0",
     "height": 20,
     "width": 20,
     "layerId": 3,
     "layerName": "Subdivision fiscale"
    }
   ],
   "layerId": 3,
   "layerName": "Subdivision fiscale",
   "serviceItemId": "972aa61e08c748f48fe9722e5ef01657"
  },
  {
   "id": 4,
   "name": "Habillage linéaire",
   "parentLayerId": -1,
   "defaultVisibility": true,
   "subLayerIds": [
    5,
    6
   ],
   "minScale": 0,
   "maxScale": 0,
   "type": "Group Layer",
   "supportsDynamicLegends": false,
   "layerId": 4,
   "layerName": "Habillage linéaire",
   "serviceItemId": "972aa61e08c748f48fe9722e5ef01657"
  },
  {
   "id": 5,
   "name": "Lieu de culte",
   "parentLayerId": 4,
   "defaultVisibility": true,
   "subLayerIds": null,
   "minScale": 5001,
   "maxScale": 0,
   "type": "Feature Layer",
   "geometryType": "esriGeometryPolyline",
   "supportsDynamicLegends": true,
   "legend": [
    {
     "label": "",
     "imageData": "iVBORw0KGgoAAAANSUhEUgAAABQAAAAUCAYAAACNiR0NAAAACXBIWXMAAA7EAAAOxAGVKw4bAAAALUlEQVQ4jWNhoDJgGTVwhIXhfwrNYkQ3kCqAZdRAqoYhI+XGMYxGChXA4E/YACNSAVI3ZpNfAAAAAElFTkSuQmCC",
     "contentType": "image/png",
     "groupId": "0",
     "height": 20,
     "width": 20,
     "values": [
      "16",
      "14",
      "15"
     ],
     "layerId": 5,
     "layerName": "Lieu de culte"
    }
   ],
   "layerId": 5,
   "layerName": "Lieu de culte",
   "serviceItemId": "972aa61e08c748f48fe9722e5ef01657"
  },
  {
   "id": 6,
   "name": "Voie ferrée (IGN)",
   "parentLayerId": 4,
   "defaultVisibility": true,
   "subLayerIds": null,
   "minScale": 20000,
   "maxScale": 0,
   "type": "Feature Layer",
   "geometryType": "esriGeometryPolyline",
   "supportsDynamicLegends": true,
   "legend": [
    {
     "label": "",
     "imageData": "iVBORw0KGgoAAAANSUhEUgAAABQAAAAUCAYAAACNiR0NAAAACXBIWXMAAA7EAAAOxAGVKw4bAAAAR0lEQVQ4jWNhoDJgGTWQYsAy/Az08/P7v2nTJkaqGUgIsDDQykA/P7//xGrCpnYTNBjgBuILl6EVhpsI+ISFIueMGjg0whAA9+wSaJXTUVkAAAAASUVORK5CYII=",
     "contentType": "image/png",
     "groupId": "0",
     "height": 20,
     "width": 20,
     "layerId": 6,
     "layerName": "Voie ferrée (IGN)"
    }
   ],
   "layerId": 6,
   "layerName": "Voie ferrée (IGN)",
   "serviceItemId": "972aa61e08c748f48fe9722e5ef01657"
  },
  {
   "id": 7,
   "name": "Bâtiment",
   "parentLayerId": -1,
   "defaultVisibility": true,
   "subLayerIds": null,
   "minScale": 10001,
   "maxScale": 0,
   "type": "Feature Layer",
   "geometryType": "esriGeometryPolygon",
   "supportsDynamicLegends": true,
   "legend": [
    {
     "label": "Bâtiments durs",
     "imageData": "iVBORw0KGgoAAAANSUhEUgAAABQAAAAUCAYAAACNiR0NAAAACXBIWXMAAA7EAAAOxAGVKw4bAAAAgElEQVQ4ja2TUQrAIAxDK/Tc+ejFNwSV6aauNflRYnktxKqZXUKU1guAND7mZqP/5WXVwZQFA5Dy2SY8hUmRMmEv4CmsAzJgDciA2SrlCAyzlKMw+RuK11cmbBmK17fI6q1g8K7eDiZFRymHVs/78XVX4IE1IAPWpfw0ZoU7r+oGufj19E6oFr4AAAAASUVORK5CYII=",
     "contentType": "image/png",
     "groupId": "0",
     "height": 20,
     "width": 20,
     "values": [
      "D"
     ],
     "layerId": 7,
     "layerName": "Bâtiment"
    },
    {
     "label": "Bâtiments légers",
     "imageData": "iVBORw0KGgoAAAANSUhEUgAAABQAAAAUCAYAAACNiR0NAAAACXBIWXMAAA7EAAAOxAGVKw4bAAAAU0lEQVQ4je2VMQoAIAwDFfLUvqND3tG/VnQSNyVOekMhLdyQpSCZRQj6cPeqkJHMIVSC68KISDOrpxmrcD6eZBQxuC6M3+EuWBe/w23waIcUvoEGE65cK4b9dvIAAAAASUVORK5CYII=",
     "contentType": "image/png",
     "groupId": "0",
     "height": 20,
     "width": 20,
     "values": [
      "L"
     ],
     "layerId": 7,
     "layerName": "Bâtiment"
    }
   ],
   "layerId": 7,
   "layerName": "Bâtiment",
   "serviceItemId": "972aa61e08c748f48fe9722e5ef01657"
  },
  {
   "id": 8,
   "name": "Habillage surfacique",
   "parentLayerId": -1,
   "defaultVisibility": true,
   "subLayerIds": [
    9,
    10
   ],
   "minScale": 0,
   "maxScale": 0,
   "type": "Group Layer",
   "supportsDynamicLegends": false,
   "layerId": 8,
   "layerName": "Habillage surfacique",
   "serviceItemId": "972aa61e08c748f48fe9722e5ef01657"
  },
  {
   "id": 9,
   "name": "Cimetière (IGN)",
   "parentLayerId": 8,
   "defaultVisibility": true,
   "subLayerIds": null,
   "minScale": 10000,
   "maxScale": 0,
   "type": "Feature Layer",
   "geometryType": "esriGeometryPolygon",
   "supportsDynamicLegends": true,
   "legend": [
    {
     "label": "",
     "imageData": "iVBORw0KGgoAAAANSUhEUgAAABQAAAAUCAYAAACNiR0NAAAACXBIWXMAAA7EAAAOxAGVKw4bAAAAy0lEQVQ4jd2VMQrCQBBF/5AFxVNYeAMbDyBikR1JZ+lR7LTIOaxsdnIGSzvbNNYeIfBFMRAhNrpi8BUL82Hfziws68yMiIi7Laoq72w2s4uI5N777aPmXRi9wxDCug6SJNmnaXp60dGK5LARDUhOQwj9J6GIrOqA5BFAqxDAXEQmjboHYCwioyehqjZPfYmqLn9zh50RisgBwDma0Hu/6PbIbThExv23sCiKWVVVZZZlZRQhyZ1zLgdwf3ofC9v4jvCTb4Dkxsw2dXAFGbBFfkuKJqQAAAAASUVORK5CYII=",
     "contentType": "image/png",
     "groupId": "0",
     "height": 20,
     "width": 20,
     "layerId": 9,
     "layerName": "Cimetière (IGN)"
    }
   ],
   "layerId": 9,
   "layerName": "Cimetière (IGN)",
   "serviceItemId": "972aa61e08c748f48fe9722e5ef01657"
  },
  {
   "id": 10,
   "name": "Hydrographie (IGN)",
   "parentLayerId": 8,
   "defaultVisibility": true,
   "subLayerIds": null,
   "minScale": 20000,
   "maxScale": 0,
   "type": "Feature Layer",
   "geometryType": "esriGeometryPolygon",
   "supportsDynamicLegends": true,
   "legend": [
    {
     "label": "",
     "imageData": "iVBORw0KGgoAAAANSUhEUgAAABQAAAAUCAYAAACNiR0NAAAACXBIWXMAAA7EAAAOxAGVKw4bAAAAWUlEQVQ4jWNhYGBgKL7//3+vIiMjMhubGDHyLCACxkFmYxMjRp6FUhcVo8mzUOqiXjR5sJepCVgo9SIDzSOFgdpeLh4SsVw8GinFgy5SqAlYBn8sFw/2nAIA87AZoL4JeeYAAAAASUVORK5CYII=",
     "contentType": "image/png",
     "groupId": "0",
     "height": 20,
     "width": 20,
     "layerId": 10,
     "layerName": "Hydrographie (IGN)"
    }
   ],
   "layerId": 10,
   "layerName": "Hydrographie (IGN)",
   "serviceItemId": "972aa61e08c748f48fe9722e5ef01657"
  }
 ],
 "initialExtent": {
  "xmin": 585442.2923406891,
  "ymin": 6143149.871400179,
  "xmax": 819121.7091128075,
  "ymax": 6381745.981853929,
  "spatialReference": {
   "wkid": 102100,
   "latestWkid": 3857
  }
 },
 "fullExtent": {
  "xmin": 585442.2923406891,
  "ymin": 6143149.871400179,
  "xmax": 819121.7091128075,
  "ymax": 6381745.981853929,
  "spatialReference": {
   "wkid": 102100,
   "latestWkid": 3857
  }
 },
 "minScale": 0,
 "maxScale": 0,
 "exportTilesAllowed": false,
 "maxExportTilesCount": 0,
 "currentVersion": 11.1,
 "mapName": "FDP_Cadastre_Transparent_WGS84_PROD",
 "singleFusedMapCache": true,
 "type": "MapServer",
 "supportedExtensions": "",
 "capabilities": "TilesOnly,Tilemap",
 "serviceItemId": "972aa61e08c748f48fe9722e5ef01657"
}
